BEGIN:VCALENDAR
VERSION:2.0
PRODID:-//AstroHología - ECPv6.15.20//NONSGML v1.0//EN
CALSCALE:GREGORIAN
METHOD:PUBLISH
X-WR-CALNAME:AstroHología
X-ORIGINAL-URL:https://astrohologia.com.ar
X-WR-CALDESC:Eventos para AstroHología
REFRESH-INTERVAL;VALUE=DURATION:PT1H
X-Robots-Tag:noindex
X-PUBLISHED-TTL:PT1H
BEGIN:VTIMEZONE
TZID:America/Argentina/Buenos_Aires
BEGIN:STANDARD
TZOFFSETFROM:-0300
TZOFFSETTO:-0300
TZNAME:-03
DTSTART:20250101T000000
END:STANDARD
END:VTIMEZONE
BEGIN:VEVENT
DTSTART;TZID=America/Argentina/Buenos_Aires:20260502T103000
DTEND;TZID=America/Argentina/Buenos_Aires:20260502T120000
DTSTAMP:20260421T005223
CREATED:20250721T150506Z
LAST-MODIFIED:20260326T151048Z
UID:12260-1777717800-1777723200@astrohologia.com.ar
SUMMARY:Inicio de la Formación en Flores de Bach para uso personal y profesional.
DESCRIPTION:Próxima fecha de inicio: mayo 2026\nClases por zoom:\nSábados de mayo a septiembre \nHorario: \n Argentina / Uruguay / Chile / Paraguay: 10:30 hs\n México: 12:30 hs\nEspaña/Italia: 14:30 hs (4 hs)\nEstados Unidos (NY): 9:30 hs \nSi no eres de Argentina\, por favor chequea las diferencia horaria con tu lugar. Puedes calcular el horario haciendo click aquí. \nNo se requieren conocimientos previos \nPara más información\, click aqui
URL:https://astrohologia.com.ar/event/inicio-del-modulo-2-flores-de-bach-para-la-consulta-astrologica/
CATEGORIES:Inicio de formación, cursos y seminarios
ATTACH;FMTTYPE=image/jpeg:https://astrohologia.com.ar/wp-content/uploads/2025/07/Formacion-Flores-de-Bach.jpg
ORGANIZER;CN="AstroHolog%C3%ADa":MAILTO:astrohologia@gmail.com
END:VEVENT
BEGIN:VEVENT
DTSTART;TZID=America/Argentina/Buenos_Aires:20260509T150000
DTEND;TZID=America/Argentina/Buenos_Aires:20260509T163000
DTSTAMP:20260421T005223
CREATED:20251113T160252Z
LAST-MODIFIED:20260326T121003Z
UID:13035-1778338800-1778344200@astrohologia.com.ar
SUMMARY:Inicio del Entrenamiento en consulta astrológica (1ra edición 2026)
DESCRIPTION:Primera edición: mayo y junio 2026\nClases por zoom: \nTodos los sábados de mayo y junio\n\nHorario\n\nArgentina/Uruguay/Paraguay/Chile: 15 a 16:30 hs\nMéxico: 12 a 13:30 hs\nEspaña/Italia: 20 a  21:30 hs\nEstados Unidos (Zona NY): 14 a 15:30 hs \n\nSi no eres de Argentina\, por favor chequea las diferencia horaria con tu lugar. Puedes calcular el horario haciendo click aquí. \n\nPara más información\, click aqui
URL:https://astrohologia.com.ar/event/inicio-del-entrenamiento-en-consulta-astrologica/
CATEGORIES:Inicio de formación, cursos y seminarios
ATTACH;FMTTYPE=image/jpeg:https://astrohologia.com.ar/wp-content/uploads/2025/04/entrenamiento-consulta.jpg
END:VEVENT
BEGIN:VEVENT
DTSTART;TZID=America/Argentina/Buenos_Aires:20260706T063000
DTEND;TZID=America/Argentina/Buenos_Aires:20260706T200000
DTSTAMP:20260421T005223
CREATED:20251123T000749Z
LAST-MODIFIED:20260326T151652Z
UID:13103-1783319400-1783368000@astrohologia.com.ar
SUMMARY:Subpersonalidades y núcleos energéticos en la Carta Natal
DESCRIPTION:Próxima fecha: julio 2026\nClases por zoom:\nSábados de julio \nHorario\n\nArgentina/Uruguay/Paraguay/Chile: 15 a 16:30 hs\nMéxico: 12 a 13:30 hs\nEspaña/Italia: 20 a  21:30 hs\nEstados Unidos (Zona NY): 14 a 15:30 hs \n\nSi no eres de Argentina\, por favor chequea las diferencia horaria con tu lugar. Puedes calcular el horario haciendo click aquí. \n\nPara más información\, click aqui
URL:https://astrohologia.com.ar/event/ciclo-de-trabajo-con-los-chakras-el-viaje-de-la-conciencia/
CATEGORIES:Inicio de formación, cursos y seminarios
ATTACH;FMTTYPE=image/jpeg:https://astrohologia.com.ar/wp-content/uploads/2020/09/subpersonalidades-chica.jpg
END:VEVENT
BEGIN:VEVENT
DTSTART;TZID=America/Argentina/Buenos_Aires:20260808T150000
DTEND;TZID=America/Argentina/Buenos_Aires:20260808T163000
DTSTAMP:20260421T005223
CREATED:20250721T152004Z
LAST-MODIFIED:20251227T144231Z
UID:12268-1786201200-1786206600@astrohologia.com.ar
SUMMARY:Inicio del Seminario de Coaching para la Consulta astrológica
DESCRIPTION:Próximo inicio: agosto 2026\nClases por zoom:\nSábados de agosto \nHorario: \nArgentina/Uruguay/Paraguay/Chile: 15 a 16:30 hs\nMéxico: 12 a 13:30 hs\nEspaña/Italia: 20 a  21:30 hs\nEstados Unidos (Zona NY): 14 a 15:30 hs\n\nSi no eres de Argentina\, por favor chequea las diferencia horaria con tu lugar. Puedes calcular el horario haciendo click aquí. \nPara más información\, click aqui
URL:https://astrohologia.com.ar/event/inicio-del-seminario-de-coaching-para-la-consulta-astrologica/
ATTACH;FMTTYPE=image/png:https://astrohologia.com.ar/wp-content/uploads/2020/12/astrocoaching.png
ORGANIZER;CN="AstroHolog%C3%ADa":MAILTO:astrohologia@gmail.com
END:VEVENT
BEGIN:VEVENT
DTSTART;TZID=America/Argentina/Buenos_Aires:20260905T150000
DTEND;TZID=America/Argentina/Buenos_Aires:20260905T163000
DTSTAMP:20260421T005223
CREATED:20260326T121021Z
LAST-MODIFIED:20260326T151758Z
UID:13682-1788620400-1788625800@astrohologia.com.ar
SUMMARY:Inicio del Entrenamiento en consulta astrológica (2da edición 2026)
DESCRIPTION:Segunda edición: septiembre y octubre 2026\nClases por zoom: \nTodos los sábados de septiembre y octubre\n\nHorario\n\nArgentina/Uruguay/Paraguay/Chile: 15 a 16:30 hs\nMéxico: 12 a 13:30 hs\nEspaña/Italia: 20 a  21:30 hs\nEstados Unidos (Zona NY): 14 a 15:30 hs \n\nSi no eres de Argentina\, por favor chequea las diferencia horaria con tu lugar. Puedes calcular el horario haciendo click aquí. \n\nPara más información\, click aqui
URL:https://astrohologia.com.ar/event/inicio-del-entrenamiento-en-consulta-astrologica-2da-edicion-2026/
CATEGORIES:Inicio de formación, cursos y seminarios
ATTACH;FMTTYPE=image/jpeg:https://astrohologia.com.ar/wp-content/uploads/2025/04/entrenamiento-consulta.jpg
END:VEVENT
BEGIN:VEVENT
DTSTART;TZID=America/Argentina/Buenos_Aires:20261003T103000
DTEND;TZID=America/Argentina/Buenos_Aires:20261003T120000
DTSTAMP:20260421T005223
CREATED:20251227T140401Z
LAST-MODIFIED:20260326T151842Z
UID:13328-1791023400-1791028800@astrohologia.com.ar
SUMMARY:Inicio de la Especialización en Flores de Bach y Astrología
DESCRIPTION:Próxima fecha de inicio: octubre 2026\nClases por zoom:\nSábados de octubre y noviembre \nHorario: \n Argentina / Uruguay / Chile / Paraguay: 10:30 hs\n México: 12:30 hs\nEspaña/Italia: 14:30 hs (4 hs)\nEstados Unidos (NY): 9:30 hs \nSi no eres de Argentina\, por favor chequea las diferencia horaria con tu lugar. Puedes calcular el horario haciendo click aquí. \nSe requieren conocimientos previos de Flores de Bach y de Astrología \nPara más información\, click aqui
URL:https://astrohologia.com.ar/event/inicio-de-la-especializacion-en-flores-de-bach-y-astrologia/
CATEGORIES:Inicio de formación, cursos y seminarios
ATTACH;FMTTYPE=image/png:https://astrohologia.com.ar/wp-content/uploads/2025/11/flores-y-astro.png
END:VEVENT
BEGIN:VEVENT
DTSTART;TZID=America/Argentina/Buenos_Aires:20261107T150000
DTEND;TZID=America/Argentina/Buenos_Aires:20261107T163000
DTSTAMP:20260421T005223
CREATED:20260326T120303Z
LAST-MODIFIED:20260326T120303Z
UID:13679-1794063600-1794069000@astrohologia.com.ar
SUMMARY:Inicio del seminario "El fractal del Ser. Astrología desde la gestación hasta la trascendencia"
DESCRIPTION:Próxima fecha: noviembre 2026\nClases por zoom:\nTodos los sábados de noviembre \nHorario\n\nArgentina/Uruguay/Paraguay/Chile: 15 a 16:30 hs\nMéxico: 12 a 13:30 hs\nEspaña/Italia: 20 a  21:30 hs\nEstados Unidos (Zona NY): 14 a 15:30 hs \n\nSi no eres de Argentina\, por favor chequea las diferencia horaria con tu lugar. Puedes calcular el horario haciendo click aquí. \nPara más información\, click aqui
URL:https://astrohologia.com.ar/event/inicio-del-seminario-el-fractal-del-ser-astrologia-desde-la-gestacion-hasta-la-trascendencia/
CATEGORIES:Inicio de formación, cursos y seminarios
ATTACH;FMTTYPE=image/png:https://astrohologia.com.ar/wp-content/uploads/2026/03/fractal-del-ser.png
ORGANIZER;CN="AstroHolog%C3%ADa":MAILTO:astrohologia@gmail.com
END:VEVENT
END:VCALENDAR